BEGIN:VCALENDAR
VERSION:2.0
PRODID:-//Tukios.com/
BEGIN:VEVENT
UID:f451ec7a-dc67-46e1-9662-644ac12fad1d@www.portertiddfuneralhome.com
DTSTAMP:20260422T182329Z
DTSTART:20260425T150000Z
DTEND:20260425T160000Z
SUMMARY:Visitation
DESCRIPTION:
URL:https://www.portertiddfuneralhome.com/obituaries/jason-justice
LOCATION: 331 W Main St  Mount Sterling OH 43143
GEO:39.713536;-83.2712716
END:VEVENT
END:VCALENDAR