BEGIN:VCALENDAR
VERSION:2.0
PRODID:-//Tukios.com/
BEGIN:VEVENT
UID:36f9fcf5-61d5-48f5-9415-e62c8b8f91a6@www.portertiddfuneralhome.com
DTSTAMP:20260422T182322Z
DTSTART:20260425T160000Z
DTEND:20260425T170000Z
SUMMARY:Funeral Service
DESCRIPTION:
URL:https://www.portertiddfuneralhome.com/obituaries/jason-justice
LOCATION:Porter-Tidd Funeral Home 331 W Main St  Mount Sterling OH 43143
GEO:39.713536;-83.2712716
END:VEVENT
END:VCALENDAR